BEGIN:VCALENDAR
VERSION:2.0
PRODID:-//Dogwood Creations - ECPv6.15.1.1//NONSGML v1.0//EN
CALSCALE:GREGORIAN
METHOD:PUBLISH
X-WR-CALNAME:Dogwood Creations
X-ORIGINAL-URL:https://www.dogwoodcreations.us
X-WR-CALDESC:Events for Dogwood Creations
REFRESH-INTERVAL;VALUE=DURATION:PT1H
X-Robots-Tag:noindex
X-PUBLISHED-TTL:PT1H
BEGIN:VTIMEZONE
TZID:America/New_York
BEGIN:DAYLIGHT
TZOFFSETFROM:-0500
TZOFFSETTO:-0400
TZNAME:EDT
DTSTART:20180311T070000
END:DAYLIGHT
BEGIN:STANDARD
TZOFFSETFROM:-0400
TZOFFSETTO:-0500
TZNAME:EST
DTSTART:20181104T060000
END:STANDARD
END:VTIMEZONE
BEGIN:VEVENT
DTSTART;TZID=America/New_York:20181019T180000
DTEND;TZID=America/New_York:20181019T220000
DTSTAMP:20260423T150643
CREATED:20181018T192310Z
LAST-MODIFIED:20181018T204411Z
UID:638-1539972000-1539986400@www.dogwoodcreations.us
SUMMARY:For Kids: Block Pumpkin Craft at Green Meadows' Trail of Jack-O-Lanterns
DESCRIPTION:Dogwood Creations is excited to be a vendor at Green Meadows Petting Farm’s annual Trail of Jack-O-Lanterns! \nCheck out full event details\, ticket information and more…* \nSwing by our booth for the kids to turn one of our block pumpkins into a jack-o-lantern of their own to take home! These adorable wooden pumpkins can be enjoyed year after year and only cost $3. While they’re busy\, browse our selection of fall and Halloween decor\, all handcrafted right here in Frederick County. \nWhile you’re here\, inquire about our custom built farm tables – perfect for hosting family and friends for the holidays! \n  \n*Admission to the Trail of Jack-O-Lanterns is required.
URL:https://www.dogwoodcreations.us/event/block-pumpkins-green-meadows/
LOCATION:Green Meadows Petting Farm\, 10102 Fingerboard Rd\, Ijamsville\, MD\, 21754\, United States
CATEGORIES:For Kids
ATTACH;FMTTYPE=image/jpeg:https://www.dogwoodcreations.us/wp-content/uploads/2018/10/block-pumpkins-craft-maryland.jpg
END:VEVENT
END:VCALENDAR